Package: flowMerge Version: 2.55.0 Command: /home/biocbuild/bbs-3.21-bioc/R/bin/R CMD check --install=check:flowMerge.install-out.txt --library=/home/biocbuild/bbs-3.21-bioc/R/site-library --timings flowMerge_2.55.0.tar.gz StartedAt: 2025-02-04 22:22:40 -0500 (Tue, 04 Feb 2025) EndedAt: 2025-02-04 22:24:30 -0500 (Tue, 04 Feb 2025) EllapsedTime: 110.2 seconds RetCode: 0 Status: WARNINGS CheckDir: flowMerge.Rcheck Warnings: 1