Package: flowMerge Version: 2.55.0 Command: /home/biocbuild/bbs-3.21-bioc/R/bin/R CMD INSTALL flowMerge StartedAt: 2025-02-04 15:53:53 -0500 (Tue, 04 Feb 2025) EndedAt: 2025-02-04 15:54:12 -0500 (Tue, 04 Feb 2025) EllapsedTime: 19.5 seconds RetCode: 0 Status: OK