Package: flowMerge Version: 2.55.0 Command: E:\biocbuild\bbs-3.21-bioc\R\bin\R.exe CMD INSTALL flowMerge StartedAt: 2025-02-12 15:47:56 -0500 (Wed, 12 Feb 2025) EndedAt: 2025-02-12 15:48:40 -0500 (Wed, 12 Feb 2025) EllapsedTime: 44.5 seconds RetCode: 0 Status: OK