Package: flowPeaks Version: 1.53.2 Command: rm -rf flowPeaks.buildbin-libdir && mkdir flowPeaks.buildbin-libdir && /Users/biocbuild/BBS/utils/build-universal.sh flowPeaks_1.53.2.tar.gz /Library/Frameworks/R.framework/Resources/bin/R flowPeaks.buildbin-libdir StartedAt: 2025-02-09 22:14:41 -0500 (Sun, 09 Feb 2025) EndedAt: 2025-02-09 22:14:47 -0500 (Sun, 09 Feb 2025) EllapsedTime: 6.1 seconds RetCode: 0 Status: OK PackageFile: flowPeaks_1.53.2.tgz PackageFileSize: 4.174 MiB