Package: flowPeaks Version: 1.53.2 Command: /Library/Frameworks/R.framework/Resources/bin/R CMD build --keep-empty-dirs --no-resave-data flowPeaks StartedAt: 2025-02-04 16:21:34 -0500 (Tue, 04 Feb 2025) EndedAt: 2025-02-04 16:21:50 -0500 (Tue, 04 Feb 2025) EllapsedTime: 16.2 seconds RetCode: 0 Status: OK PackageFile: flowPeaks_1.53.2.tar.gz PackageFileSize: 3.904 MiB