Package: flowPeaks Version: 1.53.2 Command: /home/biocbuild/R/R/bin/R CMD INSTALL flowPeaks StartedAt: 2025-01-29 19:29:28 -0000 (Wed, 29 Jan 2025) EndedAt: 2025-01-29 19:29:52 -0000 (Wed, 29 Jan 2025) EllapsedTime: 23.4 seconds RetCode: 0 Status: OK