Package: flowPeaks Version: 1.53.2 Command: rm -rf flowPeaks.buildbin-libdir && mkdir flowPeaks.buildbin-libdir && /Users/biocbuild/BBS/utils/build-universal.sh flowPeaks_1.53.2.tar.gz /Library/Frameworks/R.framework/Resources/bin/R flowPeaks.buildbin-libdir StartedAt: 2025-02-10 00:53:53 -0500 (Mon, 10 Feb 2025) EndedAt: 2025-02-10 00:54:19 -0500 (Mon, 10 Feb 2025) EllapsedTime: 25.7 seconds RetCode: 0 Status: OK PackageFile: flowPeaks_1.53.2.tgz PackageFileSize: 4.265 MiB