Package: flowPeaks Version: 1.53.2 Command: /Library/Frameworks/R.framework/Resources/bin/R CMD INSTALL flowPeaks StartedAt: 2025-02-04 15:03:19 -0500 (Tue, 04 Feb 2025) EndedAt: 2025-02-04 15:03:33 -0500 (Tue, 04 Feb 2025) EllapsedTime: 13.5 seconds RetCode: 0 Status: OK