Package: flowPeaks Version: 1.53.2 Command: /home/biocbuild/bbs-3.21-bioc/R/bin/R CMD INSTALL flowPeaks StartedAt: 2025-02-04 15:01:03 -0500 (Tue, 04 Feb 2025) EndedAt: 2025-02-04 15:01:20 -0500 (Tue, 04 Feb 2025) EllapsedTime: 16.5 seconds RetCode: 0 Status: OK