Package: flowPeaks Version: 1.53.2 Command: rm -rf flowPeaks.buildbin-libdir && mkdir flowPeaks.buildbin-libdir && E:\biocbuild\bbs-3.21-bioc\R\bin\R.exe CMD INSTALL --build --library=flowPeaks.buildbin-libdir flowPeaks_1.53.2.tar.gz StartedAt: 2025-02-05 07:57:34 -0500 (Wed, 05 Feb 2025) EndedAt: 2025-02-05 07:58:13 -0500 (Wed, 05 Feb 2025) EllapsedTime: 39.3 seconds RetCode: 0 Status: OK PackageFile: flowPeaks_1.53.2.zip PackageFileSize: 2.072 MiB