Package: flowPeaks Version: 1.53.2 Command: E:\biocbuild\bbs-3.21-bioc\R\bin\R.exe CMD INSTALL flowPeaks StartedAt: 2025-02-04 15:17:01 -0500 (Tue, 04 Feb 2025) EndedAt: 2025-02-04 15:19:23 -0500 (Tue, 04 Feb 2025) EllapsedTime: 142.3 seconds RetCode: 0 Status: OK