Package: flowPlots Version: 1.55.0 Command: /Library/Frameworks/R.framework/Resources/bin/R CMD check --install=check:flowPlots.install-out.txt --library=/Library/Frameworks/R.framework/Resources/library --no-vignettes --timings flowPlots_1.55.0.tar.gz StartedAt: 2025-02-09 20:46:06 -0500 (Sun, 09 Feb 2025) EndedAt: 2025-02-09 20:46:47 -0500 (Sun, 09 Feb 2025) EllapsedTime: 40.6 seconds RetCode: 0 Status: OK CheckDir: flowPlots.Rcheck Warnings: 0