Package: flowPlots Version: 1.55.0 Command: /home/biocbuild/bbs-3.21-bioc/R/bin/R CMD check --install=check:flowPlots.install-out.txt --library=/home/biocbuild/bbs-3.21-bioc/R/site-library --timings flowPlots_1.55.0.tar.gz StartedAt: 2025-02-04 22:23:14 -0500 (Tue, 04 Feb 2025) EndedAt: 2025-02-04 22:23:48 -0500 (Tue, 04 Feb 2025) EllapsedTime: 34.1 seconds RetCode: 0 Status: OK CheckDir: flowPlots.Rcheck Warnings: 0