Package: flowSpecs Version: 1.21.0 Command: rm -rf flowSpecs.buildbin-libdir && mkdir flowSpecs.buildbin-libdir && /Users/biocbuild/BBS/utils/build-universal.sh flowSpecs_1.21.0.tar.gz /Library/Frameworks/R.framework/Resources/bin/R flowSpecs.buildbin-libdir StartedAt: 2025-02-09 22:14:43 -0500 (Sun, 09 Feb 2025) EndedAt: 2025-02-09 22:14:48 -0500 (Sun, 09 Feb 2025) EllapsedTime: 5.1 seconds RetCode: 0 Status: OK PackageFile: flowSpecs_1.21.0.tgz PackageFileSize: 4.715 MiB