Package: flowSpecs Version: 1.21.0 Command: /Library/Frameworks/R.framework/Resources/bin/R CMD build --keep-empty-dirs --no-resave-data flowSpecs StartedAt: 2025-02-09 16:21:18 -0500 (Sun, 09 Feb 2025) EndedAt: 2025-02-09 16:21:30 -0500 (Sun, 09 Feb 2025) EllapsedTime: 11.1 seconds RetCode: 0 Status: OK PackageFile: flowSpecs_1.21.0.tar.gz PackageFileSize: 4.663 MiB