Package: flowSpecs Version: 1.21.0 Command: /Library/Frameworks/R.framework/Resources/bin/R CMD INSTALL flowSpecs StartedAt: 2025-02-09 15:07:32 -0500 (Sun, 09 Feb 2025) EndedAt: 2025-02-09 15:07:36 -0500 (Sun, 09 Feb 2025) EllapsedTime: 3.6 seconds RetCode: 0 Status: OK