Package: flowSpecs Version: 1.21.0 Command: /home/biocbuild/R/R/bin/R CMD build --keep-empty-dirs --no-resave-data flowSpecs StartedAt: 2025-01-28 22:57:21 -0000 (Tue, 28 Jan 2025) EndedAt: 2025-01-28 22:58:03 -0000 (Tue, 28 Jan 2025) EllapsedTime: 42.0 seconds RetCode: 0 Status: OK PackageFile: flowSpecs_1.21.0.tar.gz PackageFileSize: 3.317 MiB