Package: flowSpecs Version: 1.21.0 Command: /home/biocbuild/R/R/bin/R CMD INSTALL flowSpecs StartedAt: 2025-01-29 19:45:26 -0000 (Wed, 29 Jan 2025) EndedAt: 2025-01-29 19:45:39 -0000 (Wed, 29 Jan 2025) EllapsedTime: 12.7 seconds RetCode: 0 Status: OK