Package: flowSpecs Version: 1.21.0 Command: /Library/Frameworks/R.framework/Resources/bin/R CMD INSTALL flowSpecs StartedAt: 2025-02-03 15:18:43 -0500 (Mon, 03 Feb 2025) EndedAt: 2025-02-03 15:18:57 -0500 (Mon, 03 Feb 2025) EllapsedTime: 14.3 seconds RetCode: 0 Status: OK