Package: flowSpecs Version: 1.21.0 Command: /home/biocbuild/bbs-3.21-bioc/R/bin/R CMD check --install=check:flowSpecs.install-out.txt --library=/home/biocbuild/bbs-3.21-bioc/R/site-library --timings flowSpecs_1.21.0.tar.gz StartedAt: 2025-02-09 22:23:32 -0500 (Sun, 09 Feb 2025) EndedAt: 2025-02-09 22:25:08 -0500 (Sun, 09 Feb 2025) EllapsedTime: 95.2 seconds RetCode: 0 Status: OK CheckDir: flowSpecs.Rcheck Warnings: 0