Package: flowSpecs Version: 1.21.0 Command: rm -rf flowSpecs.buildbin-libdir && mkdir flowSpecs.buildbin-libdir && E:\biocbuild\bbs-3.21-bioc\R\bin\R.exe CMD INSTALL --build --library=flowSpecs.buildbin-libdir flowSpecs_1.21.0.tar.gz StartedAt: 2025-02-04 07:59:43 -0500 (Tue, 04 Feb 2025) EndedAt: 2025-02-04 08:00:09 -0500 (Tue, 04 Feb 2025) EllapsedTime: 26.0 seconds RetCode: 0 Status: OK PackageFile: flowSpecs_1.21.0.zip PackageFileSize: 3.314 MiB