Package: flowSpecs Version: 1.21.0 Command: chmod a+r flowSpecs -R && E:\biocbuild\bbs-3.21-bioc\R\bin\R.exe CMD build --keep-empty-dirs --no-resave-data flowSpecs StartedAt: 2025-02-09 18:45:33 -0500 (Sun, 09 Feb 2025) EndedAt: 2025-02-09 18:46:30 -0500 (Sun, 09 Feb 2025) EllapsedTime: 57.0 seconds RetCode: 0 Status: OK PackageFile: flowSpecs_1.21.0.tar.gz PackageFileSize: 3.263 MiB