Package: flowSpecs Version: 1.21.0 Command: E:\biocbuild\bbs-3.21-bioc\R\bin\R.exe CMD INSTALL flowSpecs StartedAt: 2025-02-03 15:51:24 -0500 (Mon, 03 Feb 2025) EndedAt: 2025-02-03 15:51:44 -0500 (Mon, 03 Feb 2025) EllapsedTime: 19.6 seconds RetCode: 0 Status: OK