Package: flowTime Version: 1.31.0 Command: rm -rf flowTime.buildbin-libdir && mkdir flowTime.buildbin-libdir && /Users/biocbuild/BBS/utils/build-universal.sh flowTime_1.31.0.tar.gz /Library/Frameworks/R.framework/Resources/bin/R flowTime.buildbin-libdir StartedAt: 2025-02-09 22:14:43 -0500 (Sun, 09 Feb 2025) EndedAt: 2025-02-09 22:14:47 -0500 (Sun, 09 Feb 2025) EllapsedTime: 4.1 seconds RetCode: 0 Status: OK PackageFile: flowTime_1.31.0.tgz PackageFileSize: 2.68 MiB