Package: flowTime Version: 1.31.0 Command: /Library/Frameworks/R.framework/Resources/bin/R CMD build --keep-empty-dirs --no-resave-data flowTime StartedAt: 2025-02-12 16:21:09 -0500 (Wed, 12 Feb 2025) EndedAt: 2025-02-12 16:21:23 -0500 (Wed, 12 Feb 2025) EllapsedTime: 14.2 seconds RetCode: 0 Status: OK PackageFile: flowTime_1.31.0.tar.gz PackageFileSize: 2.596 MiB