Package: flowTime Version: 1.31.0 Command: /Library/Frameworks/R.framework/Resources/bin/R CMD check --install=check:flowTime.install-out.txt --library=/Library/Frameworks/R.framework/Resources/library --no-vignettes --timings flowTime_1.31.0.tar.gz StartedAt: 2025-02-09 20:46:29 -0500 (Sun, 09 Feb 2025) EndedAt: 2025-02-09 20:47:52 -0500 (Sun, 09 Feb 2025) EllapsedTime: 83.1 seconds RetCode: 0 Status: OK CheckDir: flowTime.Rcheck Warnings: 0