Package: flowTime Version: 1.31.0 Command: /Library/Frameworks/R.framework/Resources/bin/R CMD INSTALL flowTime StartedAt: 2025-02-09 15:12:49 -0500 (Sun, 09 Feb 2025) EndedAt: 2025-02-09 15:13:01 -0500 (Sun, 09 Feb 2025) EllapsedTime: 11.9 seconds RetCode: 0 Status: OK