Package: flowTime Version: 1.31.0 Command: /home/biocbuild/bbs-3.21-bioc/R/bin/R CMD build --keep-empty-dirs --no-resave-data flowTime StartedAt: 2025-02-09 17:17:11 -0500 (Sun, 09 Feb 2025) EndedAt: 2025-02-09 17:17:43 -0500 (Sun, 09 Feb 2025) EllapsedTime: 32.0 seconds RetCode: 0 Status: OK PackageFile: flowTime_1.31.0.tar.gz PackageFileSize: 2.437 MiB