Package: flowTime Version: 1.31.0 Command: E:\biocbuild\bbs-3.21-bioc\R\bin\R.exe CMD check --no-multiarch --install=check:flowTime.install-out.txt --library=E:\biocbuild\bbs-3.21-bioc\R\library --no-vignettes --timings flowTime_1.31.0.tar.gz StartedAt: 2025-02-10 01:11:43 -0500 (Mon, 10 Feb 2025) EndedAt: 2025-02-10 01:13:09 -0500 (Mon, 10 Feb 2025) EllapsedTime: 86.0 seconds RetCode: 0 Status: OK CheckDir: flowTime.Rcheck Warnings: 0