Package: flowTime Version: 1.31.0 Command: E:\biocbuild\bbs-3.21-bioc\R\bin\R.exe CMD INSTALL flowTime StartedAt: 2025-02-09 15:41:18 -0500 (Sun, 09 Feb 2025) EndedAt: 2025-02-09 15:41:52 -0500 (Sun, 09 Feb 2025) EllapsedTime: 33.3 seconds RetCode: 0 Status: OK