Package: flowVS Version: 1.39.0 Command: /Library/Frameworks/R.framework/Resources/bin/R CMD build --keep-empty-dirs --no-resave-data flowVS StartedAt: 2025-02-09 16:21:26 -0500 (Sun, 09 Feb 2025) EndedAt: 2025-02-09 16:22:19 -0500 (Sun, 09 Feb 2025) EllapsedTime: 52.6 seconds RetCode: 0 Status: OK PackageFile: flowVS_1.39.0.tar.gz PackageFileSize: 3.699 MiB