Package: flowVS Version: 1.39.0 Command: /Library/Frameworks/R.framework/Resources/bin/R CMD check --install=check:flowVS.install-out.txt --library=/Library/Frameworks/R.framework/Resources/library --no-vignettes --timings flowVS_1.39.0.tar.gz StartedAt: 2025-02-03 19:53:23 -0500 (Mon, 03 Feb 2025) EndedAt: 2025-02-03 19:54:09 -0500 (Mon, 03 Feb 2025) EllapsedTime: 46.6 seconds RetCode: 0 Status: OK CheckDir: flowVS.Rcheck Warnings: 0