Package: flowVS Version: 1.39.0 Command: /home/biocbuild/R/R/bin/R CMD build --keep-empty-dirs --no-resave-data flowVS StartedAt: 2025-01-28 22:57:58 -0000 (Tue, 28 Jan 2025) EndedAt: 2025-01-28 23:01:07 -0000 (Tue, 28 Jan 2025) EllapsedTime: 189.1 seconds RetCode: 0 Status: OK PackageFile: flowVS_1.39.0.tar.gz PackageFileSize: 3.767 MiB