Package: flowVS Version: 1.39.0 Command: /home/biocbuild/R/R/bin/R CMD INSTALL flowVS StartedAt: 2025-01-29 20:37:52 -0000 (Wed, 29 Jan 2025) EndedAt: 2025-01-29 20:38:13 -0000 (Wed, 29 Jan 2025) EllapsedTime: 20.8 seconds RetCode: 0 Status: OK