Package: flowVS Version: 1.39.0 Command: /Library/Frameworks/R.framework/Resources/bin/R CMD build --keep-empty-dirs --no-resave-data flowVS StartedAt: 2025-02-09 16:47:42 -0500 (Sun, 09 Feb 2025) EndedAt: 2025-02-09 16:50:17 -0500 (Sun, 09 Feb 2025) EllapsedTime: 155.6 seconds RetCode: 0 Status: OK PackageFile: flowVS_1.39.0.tar.gz PackageFileSize: 3.699 MiB