Package: flowVS Version: 1.39.0 Command: /Library/Frameworks/R.framework/Resources/bin/R CMD check --install=check:flowVS.install-out.txt --library=/Library/Frameworks/R.framework/Resources/library --no-vignettes --timings flowVS_1.39.0.tar.gz StartedAt: 2025-02-03 20:36:06 -0500 (Mon, 03 Feb 2025) EndedAt: 2025-02-03 20:38:20 -0500 (Mon, 03 Feb 2025) EllapsedTime: 133.3 seconds RetCode: 0 Status: OK CheckDir: flowVS.Rcheck Warnings: 0