Package: flowVS Version: 1.39.0 Command: /home/biocbuild/bbs-3.21-bioc/R/bin/R CMD INSTALL flowVS StartedAt: 2025-02-04 15:32:37 -0500 (Tue, 04 Feb 2025) EndedAt: 2025-02-04 15:32:53 -0500 (Tue, 04 Feb 2025) EllapsedTime: 15.2 seconds RetCode: 0 Status: OK