Package: flowVS Version: 1.39.0 Command: E:\biocbuild\bbs-3.21-bioc\R\bin\R.exe CMD check --no-multiarch --install=check:flowVS.install-out.txt --library=E:\biocbuild\bbs-3.21-bioc\R\library --no-vignettes --timings flowVS_1.39.0.tar.gz StartedAt: 2025-02-10 01:12:15 -0500 (Mon, 10 Feb 2025) EndedAt: 2025-02-10 01:14:54 -0500 (Mon, 10 Feb 2025) EllapsedTime: 158.7 seconds RetCode: 0 Status: OK CheckDir: flowVS.Rcheck Warnings: 0