Package: flowcatchR Version: 1.41.2 Command: rm -rf flowcatchR.buildbin-libdir && mkdir flowcatchR.buildbin-libdir && /Users/biocbuild/BBS/utils/build-universal.sh flowcatchR_1.41.2.tar.gz /Library/Frameworks/R.framework/Resources/bin/R flowcatchR.buildbin-libdir StartedAt: 2025-02-10 00:53:37 -0500 (Mon, 10 Feb 2025) EndedAt: 2025-02-10 00:53:55 -0500 (Mon, 10 Feb 2025) EllapsedTime: 18.6 seconds RetCode: 0 Status: OK PackageFile: flowcatchR_1.41.2.tgz PackageFileSize: 7.734 MiB