Package: flowcatchR Version: 1.41.2 Command: /Library/Frameworks/R.framework/Resources/bin/R CMD build --keep-empty-dirs --no-resave-data flowcatchR StartedAt: 2025-02-09 16:46:15 -0500 (Sun, 09 Feb 2025) EndedAt: 2025-02-09 16:46:59 -0500 (Sun, 09 Feb 2025) EllapsedTime: 44.5 seconds RetCode: 0 Status: OK PackageFile: flowcatchR_1.41.2.tar.gz PackageFileSize: 6.848 MiB