Package: flowcatchR Version: 1.41.2 Command: /Library/Frameworks/R.framework/Resources/bin/R CMD check --install=check:flowcatchR.install-out.txt --library=/Library/Frameworks/R.framework/Resources/library --no-vignettes --timings flowcatchR_1.41.2.tar.gz StartedAt: 2025-02-09 20:44:22 -0500 (Sun, 09 Feb 2025) EndedAt: 2025-02-09 20:45:41 -0500 (Sun, 09 Feb 2025) EllapsedTime: 78.5 seconds RetCode: 0 Status: OK CheckDir: flowcatchR.Rcheck Warnings: 0