Package: flowcatchR Version: 1.41.2 Command: /Library/Frameworks/R.framework/Resources/bin/R CMD INSTALL flowcatchR StartedAt: 2025-02-12 15:25:46 -0500 (Wed, 12 Feb 2025) EndedAt: 2025-02-12 15:26:00 -0500 (Wed, 12 Feb 2025) EllapsedTime: 14.2 seconds RetCode: 0 Status: OK