Package: flowcatchR Version: 1.41.2 Command: rm -rf flowcatchR.buildbin-libdir && mkdir flowcatchR.buildbin-libdir && E:\biocbuild\bbs-3.21-bioc\R\bin\R.exe CMD INSTALL --build --library=flowcatchR.buildbin-libdir flowcatchR_1.41.2.tar.gz StartedAt: 2025-02-13 07:56:17 -0500 (Thu, 13 Feb 2025) EndedAt: 2025-02-13 07:56:58 -0500 (Thu, 13 Feb 2025) EllapsedTime: 41.1 seconds RetCode: 0 Status: OK PackageFile: flowcatchR_1.41.2.zip PackageFileSize: 7.645 MiB