Package: flowcatchR Version: 1.41.2 Command: E:\biocbuild\bbs-3.21-bioc\R\bin\R.exe CMD check --no-multiarch --install=check:flowcatchR.install-out.txt --library=E:\biocbuild\bbs-3.21-bioc\R\library --no-vignettes --timings flowcatchR_1.41.2.tar.gz StartedAt: 2025-02-10 01:08:19 -0500 (Mon, 10 Feb 2025) EndedAt: 2025-02-10 01:09:48 -0500 (Mon, 10 Feb 2025) EllapsedTime: 89.2 seconds RetCode: 0 Status: OK CheckDir: flowcatchR.Rcheck Warnings: 0