Package: fmcsR Version: 1.49.0 Command: /Library/Frameworks/R.framework/Resources/bin/R CMD build --keep-empty-dirs --no-resave-data fmcsR StartedAt: 2025-02-12 16:21:19 -0500 (Wed, 12 Feb 2025) EndedAt: 2025-02-12 16:21:37 -0500 (Wed, 12 Feb 2025) EllapsedTime: 18.2 seconds RetCode: 0 Status: OK PackageFile: fmcsR_1.49.0.tar.gz PackageFileSize: 871.2 KiB