Package: fmcsR Version: 1.49.0 Command: /home/biocbuild/R/R/bin/R CMD build --keep-empty-dirs --no-resave-data fmcsR StartedAt: 2025-01-28 22:58:12 -0000 (Tue, 28 Jan 2025) EndedAt: 2025-01-28 22:59:10 -0000 (Tue, 28 Jan 2025) EllapsedTime: 58.0 seconds RetCode: 0 Status: OK PackageFile: fmcsR_1.49.0.tar.gz PackageFileSize: 624.5 KiB