Package: fmcsR Version: 1.49.0 Command: /home/biocbuild/R/R/bin/R CMD check --install=check:fmcsR.install-out.txt --library=/home/biocbuild/R/R/site-library --no-vignettes --timings fmcsR_1.49.0.tar.gz StartedAt: 2025-01-28 10:42:28 -0000 (Tue, 28 Jan 2025) EndedAt: 2025-01-28 10:43:43 -0000 (Tue, 28 Jan 2025) EllapsedTime: 75.1 seconds RetCode: 0 Status: WARNINGS CheckDir: fmcsR.Rcheck Warnings: 2