Package: fmcsR Version: 1.49.0 Command: /home/biocbuild/R/R/bin/R CMD INSTALL fmcsR StartedAt: 2025-01-29 20:30:30 -0000 (Wed, 29 Jan 2025) EndedAt: 2025-01-29 20:30:56 -0000 (Wed, 29 Jan 2025) EllapsedTime: 26.1 seconds RetCode: 0 Status: OK