Package: fmcsR Version: 1.49.0 Command: /home/biocbuild/bbs-3.21-bioc/R/bin/R CMD build --keep-empty-dirs --no-resave-data fmcsR StartedAt: 2025-02-09 17:17:26 -0500 (Sun, 09 Feb 2025) EndedAt: 2025-02-09 17:18:10 -0500 (Sun, 09 Feb 2025) EllapsedTime: 43.1 seconds RetCode: 0 Status: OK PackageFile: fmcsR_1.49.0.tar.gz PackageFileSize: 807.6 KiB