Package: fmrs Version: 1.17.0 Command: rm -rf fmrs.buildbin-libdir && mkdir fmrs.buildbin-libdir && /Users/biocbuild/BBS/utils/build-universal.sh fmrs_1.17.0.tar.gz /Library/Frameworks/R.framework/Resources/bin/R fmrs.buildbin-libdir StartedAt: 2025-02-10 00:54:03 -0500 (Mon, 10 Feb 2025) EndedAt: 2025-02-10 00:54:22 -0500 (Mon, 10 Feb 2025) EllapsedTime: 18.6 seconds RetCode: 0 Status: OK PackageFile: fmrs_1.17.0.tgz PackageFileSize: 211 KiB